BEGIN:VCALENDAR
VERSION:2.0
PRODID:-//Kinderopvang BuitenGewoon - ECPv6.1.4//NONSGML v1.0//EN
CALSCALE:GREGORIAN
METHOD:PUBLISH
X-WR-CALNAME:Kinderopvang BuitenGewoon
X-ORIGINAL-URL:https://kobuitengewoon.nl
X-WR-CALDESC:Evenementen voor Kinderopvang BuitenGewoon
REFRESH-INTERVAL;VALUE=DURATION:PT1H
X-Robots-Tag:noindex
X-PUBLISHED-TTL:PT1H
BEGIN:VTIMEZONE
TZID:Europe/Paris
BEGIN:DAYLIGHT
TZOFFSETFROM:+0100
TZOFFSETTO:+0200
TZNAME:CEST
DTSTART:20230326T010000
END:DAYLIGHT
BEGIN:STANDARD
TZOFFSETFROM:+0200
TZOFFSETTO:+0100
TZNAME:CET
DTSTART:20231029T010000
END:STANDARD
END:VTIMEZONE
BEGIN:VEVENT
DTSTART;VALUE=DATE:20230710
DTEND;VALUE=DATE:20230819
DTSTAMP:20260424T121954
CREATED:20230407T120231Z
LAST-MODIFIED:20230407T120453Z
UID:1448-1688947200-1692403199@kobuitengewoon.nl
SUMMARY:Peuterprogramma De Schavuiten gesloten
DESCRIPTION:De Schavuiten\, ons peuterprogramma\, is gesloten tijdens de reguliere schoolvakantieweken (regio Midden). Hiernaast is de Schavuiten gesloten op de overige dagen dat de scholen uit onze regio gesloten zijn\, namelijk Goede Vrijdag en de dag na Hemelvaart.
URL:https://kobuitengewoon.nl/index.php/event/peuterprogramma-de-schavuiten-gesloten/
END:VEVENT
BEGIN:VEVENT
DTSTART;TZID=Europe/Paris:20230710T080000
DTEND;TZID=Europe/Paris:20230818T180000
DTSTAMP:20260424T121954
CREATED:20230329T102050Z
LAST-MODIFIED:20230329T102050Z
UID:1417-1688976000-1692381600@kobuitengewoon.nl
SUMMARY:Zomervakantie programma BSO
DESCRIPTION:Zodra het programma bekend is\, is deze te vinden in het Ouderportaal.
URL:https://kobuitengewoon.nl/index.php/event/zomervakantie-programma-bso/
END:VEVENT
END:VCALENDAR