BEGIN:VCALENDAR
VERSION:2.0
PRODID:-//Kinderopvang BuitenGewoon - ECPv6.1.4//NONSGML v1.0//EN
CALSCALE:GREGORIAN
METHOD:PUBLISH
X-WR-CALNAME:Kinderopvang BuitenGewoon
X-ORIGINAL-URL:https://kobuitengewoon.nl
X-WR-CALDESC:Evenementen voor Kinderopvang BuitenGewoon
REFRESH-INTERVAL;VALUE=DURATION:PT1H
X-Robots-Tag:noindex
X-PUBLISHED-TTL:PT1H
BEGIN:VTIMEZONE
TZID:Europe/Paris
BEGIN:DAYLIGHT
TZOFFSETFROM:+0100
TZOFFSETTO:+0200
TZNAME:CEST
DTSTART:20230326T010000
END:DAYLIGHT
BEGIN:STANDARD
TZOFFSETFROM:+0200
TZOFFSETTO:+0100
TZNAME:CET
DTSTART:20231029T010000
END:STANDARD
END:VTIMEZONE
BEGIN:VEVENT
DTSTART;VALUE=DATE:20230629
DTEND;VALUE=DATE:20230630
DTSTAMP:20260424T120758
CREATED:20230329T112223Z
LAST-MODIFIED:20230329T112223Z
UID:1422-1687996800-1688083199@kobuitengewoon.nl
SUMMARY:Modderdag!
DESCRIPTION:Tijdens ModderDag op 29 juni staat het vrij spelen met de elementen water en zand centraal. Kinderen krijgen de ruimte om modder te maken\, ontdekken en beleven. Honderdduizenden kinderen in binnen- en buitenland zijn tegelijkertijd actief bezig met natuur. En daarbij mag je vies worden!
URL:https://kobuitengewoon.nl/index.php/event/modderdag/
ATTACH;FMTTYPE=image/jpeg:https://kobuitengewoon.nl/wp-content/uploads/2023/03/Modderdag.jpg
END:VEVENT
END:VCALENDAR