BEGIN:VCALENDAR
VERSION:2.0
PRODID:-//Kinderopvang BuitenGewoon - ECPv6.1.4//NONSGML v1.0//EN
CALSCALE:GREGORIAN
METHOD:PUBLISH
X-WR-CALNAME:Kinderopvang BuitenGewoon
X-ORIGINAL-URL:https://kobuitengewoon.nl
X-WR-CALDESC:Evenementen voor Kinderopvang BuitenGewoon
REFRESH-INTERVAL;VALUE=DURATION:PT1H
X-Robots-Tag:noindex
X-PUBLISHED-TTL:PT1H
BEGIN:VTIMEZONE
TZID:Europe/Paris
BEGIN:DAYLIGHT
TZOFFSETFROM:+0100
TZOFFSETTO:+0200
TZNAME:CEST
DTSTART:20230326T010000
END:DAYLIGHT
BEGIN:STANDARD
TZOFFSETFROM:+0200
TZOFFSETTO:+0100
TZNAME:CET
DTSTART:20231029T010000
END:STANDARD
END:VTIMEZONE
BEGIN:VEVENT
DTSTART;TZID=Europe/Paris:20230607T093000
DTEND;TZID=Europe/Paris:20230607T113000
DTSTAMP:20260424T161837
CREATED:20230407T121024Z
LAST-MODIFIED:20230407T121024Z
UID:1455-1686130200-1686137400@kobuitengewoon.nl
SUMMARY:Mamacafé
DESCRIPTION:Tussen 09.30 en 11.30 uur staan de koffie en thee met wat lekkers voor je klaar in één van onze ruimtes.  Uiteraard is er ook wat te drinken en wat lekkers voor de kinderen en een leuke activiteit. \nLoes Frings van Soterios komt deze ochtend langs om meer te vertellen over EHBO aan baby’s en kinderen.
URL:https://kobuitengewoon.nl/index.php/event/mamacafe/
END:VEVENT
END:VCALENDAR